BEGIN:VCALENDAR
VERSION:2.0
PRODID:icalendar-ruby
CALSCALE:GREGORIAN
METHOD:PUBLISH
BEGIN:VEVENT
DTSTAMP:20260420T061620Z
UID:258-1731583@era.church
DTSTART:20260521T020000Z
DTEND:20260521T040000Z
CLASS:PUBLIC
CREATED:20260416T165345
DESCRIPTION:
LAST-MODIFIED:20260416T165345
LOCATION:
SUMMARY:Catechism 
URL;VALUE=URI:https://www.era.church/events/catechism--258/2026-05-20
ATTACH;FILENAME=CatechismClass1.png;FMTTYPE=image/png:https://dq5pwpg1q8ru0
 .cloudfront.net/2026/04/16/23/05/30/6a4755a7-3345-458f-8b4b-c25cb4393afa/C
 atechismClass1.png
END:VEVENT
END:VCALENDAR
